BEGIN:VCALENDAR
VERSION:2.0
PRODID:-//Tcheulang - ECPv6.15.16//NONSGML v1.0//EN
CALSCALE:GREGORIAN
METHOD:PUBLISH
X-ORIGINAL-URL:https://www.tcheulang.org
X-WR-CALDESC:Évènements pour Tcheulang
REFRESH-INTERVAL;VALUE=DURATION:PT1H
X-Robots-Tag:noindex
X-PUBLISHED-TTL:PT1H
BEGIN:VTIMEZONE
TZID:Indian/Reunion
BEGIN:STANDARD
TZOFFSETFROM:+0400
TZOFFSETTO:+0400
TZNAME:+04
DTSTART:20250101T000000
END:STANDARD
END:VTIMEZONE
BEGIN:VEVENT
DTSTART;TZID=Indian/Reunion:20261010T083000
DTEND;TZID=Indian/Reunion:20261010T170000
DTSTAMP:20260420T172950
CREATED:20251020T100927Z
LAST-MODIFIED:20260213T072422Z
UID:10001521-1791621000-1791651600@www.tcheulang.org
SUMMARY:Evènement spécial : Stage d'enseignement
DESCRIPTION:L’ESPRIT D’EVEIL\n\n\nL’esprit d’éveil\, ou bodhicitta\, est le souhait profond d’atteindre l’éveil afin de pouvoir aider tous les êtres à se libérer de la souffrance et trouver le bonheur véritable. Il réunit deux aspects inséparables : la compassion illimitée qui désire le bien de chacun et la sagesse qui réalise la véritable nature des choses. Cultiver cet esprit transforme nos pensées\, nos paroles et nos actions en chemin vers l’éveil\, car même les gestes les plus simples deviennent porteurs d’un sens immense lorsqu’ils sont accomplis avec cette motivation altruiste.\n\n\n\n\n\nSUPPORT\n\n\n\n\n\n\n \nL’enseignement de Do Khyentsé Rinpoché s’appuie sur le livre de Patrul Rinpoché Le Chemin de la Grande Perfection. Ceux qui possèdent l’ouvrage peuvent l’apporter. Ce texte est un guide des pratiques préliminaires de l’Essence du Cœur de l’Immensité (Longtchen Nyingtik)\, un cycle majeur de la Grande Perfection. Il est reconnu par de nombreux maîtres comme l’un des manuels les plus profonds et accessibles du Vajrayana\, présentant avec clarté et simplicité l’essence de la voie. Patrul Rinpoché (1808-1887)\, l’un des maîtres les plus remarquables de son époque\, transmit ces enseignements avec un style direct\, vivant et empreint d’expérience\, rappelant que la véritable pratique bouddhiste est avant tout une transformation intérieure.\n\n\n\n\n\n\n\n\n\n\nPROGRAMME\nSAMEDI\n8h30 – 10h30 : Enseignement de Rinpoché \n10h30 – 11h00 : Pause thé \n11h00 – 13h30 : Enseignement de Rinpoché \n13h30 – 15h00 : Pause repas \n15h00 – 17h00 : Enseignement de Rinpoché \nDIMANCHE\n8h30 – 10h30 : Enseignement de Rinpoché \n10h30 – 11h00 : Pause thé \n11h00 – 13h30 : Enseignement de Rinpoché \n13h30 – 15h00: Pause repas \n15h00 – 17h00 : Enseignement de Rinpoché \n  \nTARIFS\n\nNon Adhérent: 20€/ 2 jours\nRepas (Chacun emmène son repas)
URL:https://www.tcheulang.org/event/stage-denseignement-2/2026-10-10/
LOCATION:Temple Tcheulang\, 624 chemin Antoine Picard\, Mont-Vert-les-Hauts\, St Pierre\, 97410
CATEGORIES:A LA UNE,ÉVÈNEMENT SPÉCIAL
ATTACH;FMTTYPE=image/jpeg:https://www.tcheulang.org/wp-content/uploads/2024/04/stage-denseignement.jpg
END:VEVENT
BEGIN:VEVENT
DTSTART;TZID=Indian/Reunion:20261011T083000
DTEND;TZID=Indian/Reunion:20261011T170000
DTSTAMP:20260420T172951
CREATED:20251020T100927Z
LAST-MODIFIED:20260213T072422Z
UID:10001522-1791707400-1791738000@www.tcheulang.org
SUMMARY:Evènement spécial : Stage d'enseignement
DESCRIPTION:L’ESPRIT D’EVEIL\n\n\nL’esprit d’éveil\, ou bodhicitta\, est le souhait profond d’atteindre l’éveil afin de pouvoir aider tous les êtres à se libérer de la souffrance et trouver le bonheur véritable. Il réunit deux aspects inséparables : la compassion illimitée qui désire le bien de chacun et la sagesse qui réalise la véritable nature des choses. Cultiver cet esprit transforme nos pensées\, nos paroles et nos actions en chemin vers l’éveil\, car même les gestes les plus simples deviennent porteurs d’un sens immense lorsqu’ils sont accomplis avec cette motivation altruiste.\n\n\n\n\n\nSUPPORT\n\n\n\n\n\n\n \nL’enseignement de Do Khyentsé Rinpoché s’appuie sur le livre de Patrul Rinpoché Le Chemin de la Grande Perfection. Ceux qui possèdent l’ouvrage peuvent l’apporter. Ce texte est un guide des pratiques préliminaires de l’Essence du Cœur de l’Immensité (Longtchen Nyingtik)\, un cycle majeur de la Grande Perfection. Il est reconnu par de nombreux maîtres comme l’un des manuels les plus profonds et accessibles du Vajrayana\, présentant avec clarté et simplicité l’essence de la voie. Patrul Rinpoché (1808-1887)\, l’un des maîtres les plus remarquables de son époque\, transmit ces enseignements avec un style direct\, vivant et empreint d’expérience\, rappelant que la véritable pratique bouddhiste est avant tout une transformation intérieure.\n\n\n\n\n\n\n\n\n\n\nPROGRAMME\nSAMEDI\n8h30 – 10h30 : Enseignement de Rinpoché \n10h30 – 11h00 : Pause thé \n11h00 – 13h30 : Enseignement de Rinpoché \n13h30 – 15h00 : Pause repas \n15h00 – 17h00 : Enseignement de Rinpoché \nDIMANCHE\n8h30 – 10h30 : Enseignement de Rinpoché \n10h30 – 11h00 : Pause thé \n11h00 – 13h30 : Enseignement de Rinpoché \n13h30 – 15h00: Pause repas \n15h00 – 17h00 : Enseignement de Rinpoché \n  \nTARIFS\n\nNon Adhérent: 20€/ 2 jours\nRepas (Chacun emmène son repas)
URL:https://www.tcheulang.org/event/stage-denseignement-2/2026-10-11/
LOCATION:Temple Tcheulang\, 624 chemin Antoine Picard\, Mont-Vert-les-Hauts\, St Pierre\, 97410
CATEGORIES:A LA UNE,ÉVÈNEMENT SPÉCIAL
ATTACH;FMTTYPE=image/jpeg:https://www.tcheulang.org/wp-content/uploads/2024/04/stage-denseignement.jpg
END:VEVENT
BEGIN:VEVENT
DTSTART;TZID=Indian/Reunion:20261023T073000
DTEND;TZID=Indian/Reunion:20261023T093000
DTSTAMP:20260420T172951
CREATED:20240917T160057Z
LAST-MODIFIED:20251016T091539Z
UID:10001083-1792740600-1792747800@www.tcheulang.org
SUMMARY:Évènement spécial : Guru-Yoga Kesar
DESCRIPTION:KESAR\nKésar est une émanation de la sagesse\, de la compassion et du pouvoir de Guru Rinpoché. Il est différent des autres Dharmapalas\, c’est-à-dire des protecteurs du Dharma\, car il englobe toute la sagesse\, la compassion et le pouvoir de tous les bouddhas et bodhisattvas. Quand aucun autre protecteur ne peut être utile\, le roi Késar peut toujours l’être. \nLa pratique du Guru-Yoga pratiqué « La prompte infusion de bénédictions » provient d’un « terma » trésor spirituel \, révélé par Mipham Rinpoché (1846-1912) en 1887. Ce Guru-Yoga est considéré comme un moyen particulièrement rapide pour recevoir les bénédictions et les signes d’accomplissements de Késar. \nMANTRA\nOM AH HOUNG BENZA MAHA GURU MARNEU RANDZA SARVA SEUDHEU PA LA HOUNG \nBIENFAITS\nLes bénédictions entreront rapidement et des signes apparaîtront comme l’énergie créatrice rigpa. Si vous priez ainsi pendant sept jours\, vous serez sûrement protégé et choyé. \nGURU-YOGA\nLe Guru-Yoga est la « pratique d’union au lama ». C’est le dernier des quatre préliminaires et aussi le plus important\, car c’est par lui que nous recevons plus particulièrement l’influence spirituelle du Lama\, de la lignée et de l’éveil.\nCette influence spirituelle est l’élément par lequel la transmission et la transformation opèrent profondément.\nElle pourrait être comparée au soleil\, et notre esprit à une fleur qui pousse et s’épanouit naturellement sous ses rayons. \nÀ SAVOIR\nCes méditations s’appuient toujours sur une divinité qui représente les qualités de l’éveil\, envers qui le pratiquant se relie comme support et moyen habile pour développer ses propres qualités. De plus\, par leurs méthodes puissantes d’accumulation de mérite et de purification\, elles facilitent l’entrée dans une profonde concentration méditative et nous aide à demeurer dans l’instant présent au niveau du corps\, de la parole et de l’esprit. La méditation du Guru-Yoga est ouverte à tous\, toutefois\, son accès sera plus facile pour les personnes déjà engagées dans la voie bouddhiste\, qui ont créé un lien avec un maître spirituel.
URL:https://www.tcheulang.org/event/evenement-special-guru-yoga-de-kesar/2026-10-23/
LOCATION:Temple Tcheulang\, 624 chemin Antoine Picard\, Mont-Vert-les-Hauts\, St Pierre\, 97410
CATEGORIES:A LA UNE,ÉVÈNEMENT SPÉCIAL
ATTACH;FMTTYPE=image/jpeg:https://www.tcheulang.org/wp-content/uploads/2024/04/kesar-evenement-special.jpg
ORGANIZER;CN="Tcheulang":MAILTO:association.tcheulang888@gmail.com
END:VEVENT
END:VCALENDAR