BEGIN:VCALENDAR
VERSION:2.0
PRODID:-//Tcheulang - ECPv6.15.16//NONSGML v1.0//EN
CALSCALE:GREGORIAN
METHOD:PUBLISH
X-ORIGINAL-URL:https://www.tcheulang.org
X-WR-CALDESC:Évènements pour Tcheulang
REFRESH-INTERVAL;VALUE=DURATION:PT1H
X-Robots-Tag:noindex
X-PUBLISHED-TTL:PT1H
BEGIN:VTIMEZONE
TZID:Indian/Reunion
BEGIN:STANDARD
TZOFFSETFROM:+0400
TZOFFSETTO:+0400
TZNAME:+04
DTSTART:20250101T000000
END:STANDARD
END:VTIMEZONE
BEGIN:VEVENT
DTSTART;TZID=Indian/Reunion:20260718T080000
DTEND;TZID=Indian/Reunion:20260718T170000
DTSTAMP:20260420T122225
CREATED:20251020T161535Z
LAST-MODIFIED:20251103T113645Z
UID:10001320-1784361600-1784394000@www.tcheulang.org
SUMMARY:Evènement spécial : Prière de souhaits de Samantabhadra
DESCRIPTION:ZANGTCHEUT MOMLAM : la prière de souhaits de samantabhadra\n\nLa Prière de souhaits de Samantabhadra\, aussi appelée Reine des prières\, exprime l’aspiration la plus vaste et la plus bienveillante : celle que tous les êtres trouvent le bonheur véritable et atteignent l’éveil.\n\n\n\nComposée par le grand bodhisattva Samantabhadra\, elle résume l’essence de la voie du Mahayana \, la voie du cœur ouvert et du souhait altruiste. \nElle nous invite à transformer nos pensées ordinaires en souhaits positifs\, à reconnaître la bonté en chaque être et à relier toutes nos actions\, même les plus simples\, à un but plus vaste.\n\n\n\nRéciter cette prière\, c’est éveiller en soi l’esprit d’amour et de compassion universelle\, et semer dans le monde les causes d’un bonheur durable pour tous.\n\n\n\n 
URL:https://www.tcheulang.org/event/priere-de-souhaits-de-samantabhadra/2026-07-18/
LOCATION:Temple Tcheulang\, 624 chemin Antoine Picard\, Mont-Vert-les-Hauts\, St Pierre\, 97410
CATEGORIES:A LA UNE,ÉVÈNEMENT SPÉCIAL
ATTACH;FMTTYPE=image/jpeg:https://www.tcheulang.org/wp-content/uploads/2024/11/bouddha-dore-fond-bleu-1.jpg
ORGANIZER;CN="Tcheulang":MAILTO:association.tcheulang888@gmail.com
END:VEVENT
BEGIN:VEVENT
DTSTART;TZID=Indian/Reunion:20260724T190000
DTEND;TZID=Indian/Reunion:20260724T210000
DTSTAMP:20260420T122225
CREATED:20251022T045311Z
LAST-MODIFIED:20251022T045311Z
UID:10001103-1784919600-1784926800@www.tcheulang.org
SUMMARY:Evènement spécial : Tsok annuelle à Guru Rinpoché
DESCRIPTION:Cette pratique de Tsok est la plus importante de l’année\, elle célèbre la naissance de Guru Rinpoché. C’est un jour ou tous les pratiquants et adhérents du centre se retrouvent ensemble ainsi que toutes les personnes désireuses de participer pour partager ce moment très spécial. Le lendemain aura lieu un spectacle de danses sacrées. \nGURU RINPOCHÉ\nPour tous les pratiquants bouddhistes\, Padmasambhava appelé Gourou Rinpoché par les tibétains « le précieux maître » représente l’aspect le plus puissant de l’activité des Bouddhas. Alors que le Bouddha Shakyamouni représente le principe du Bouddha\, l’élément le plus important du chemin du Soutrayana\, Padmasambhava représente le principe du Gourou\, le coeur du Bouddhisme Vajrayana\, et il est ainsi connu comme « le second Bouddha ». \nLe rituel pratiqué « Une pluie de bénédictions » provient d’un « terma » trésor spirituel\, révélé par Mipham Rinpoché (1846-1912) grand érudit de l’école Nyingmapa. La tsok a lieu tous les mois\, le 10ème jour lunaire du calendrier tibétain. \nLA TSOK\nLe véhicule du Vajrayana comporte d’innombrables méthodes habiles et puissantes qui\, si elles sont pratiquées de manière appropriée\, peuvent rendre le processus d’accumulation et de purification incroyablement rapide.\nUne de ces méthodes est la pratique de tsok\, qui est avant tout une pratique d’offrande\, mais c’est aussi une méthode puissante pour purifier nos samaya. \nLa tsok fait référence à quatre types de rassemblements\, lesquels sont :\n– les pratiquants\n– les substances d’offrande\n– les divinités\n– le mérite et la sagesse \n  \nMANTRA\nOm Ah Houng Bendza Goureu Padma Seudheu Houng \n\nA SAVOIR\nSi vous souhaitez assister à la pratique de tsok\, vous pouvez emmener des offrandes de nourriture (sucré ou salé) qui seront offertes tout d’abord au mandala puis partager par l’ensemble des pratiquants pendant le rituel. Les substances de tsok une fois bénies ne doivent plus être perçues comme ordinaire mais comme un support de bénédiction.\nVous avez aussi la possibilité de faire une demande de souhaits pour vous ou un proche\, (accompagné d’une offrande d’argent) qui sera énoncé au début du rituel. \n  \nLa tsok fait référence à quatre types de rassemblements\, lesquels sont : \n\n les pratiquants\n les substances d’offrande\n les divinités\n le mérite et la sagesse\n\n1. Le rassemblement des pratiquants \nDans les enseignements\, ceci est connu comme « le rassemblement d’individus chanceux » parce que seuls les êtres avec un très grand mérite peuvent rencontrer et pratiquer le chemin du Vajrayana. Les pratiquants tantriques masculins et féminins se rassemblent pour célébrer la fête de tsok le dixième jour de la lune croissante et le vingt-cinq jour de la lune décroissante. La tsok peut également être offerte en gratitude\, chaque fois que nous obtenons des signes d’accomplissement dans notre pratique\, ou comme purification chaque fois que des signes d’un endommagement ou d’une rupture du samaya se produisent. \nUne notion importante dans la pratique de tsok est la perception pure\, de sorte que chacun doit être perçu selon sa pure nature c’est-à-dire\, tous les pratiquants masculins sont perçus comme des dakas qui incarnent les moyens habiles\, et toutes les pratiquantes féminines comme des dakinis\, qui incarnent la sagesse. Il est dit dans les tantras que les pratiquants hommes doivent s’asseoir à droite et les pratiquantes femmes à gauche\, face à face\, avec le maître de vajra au centre qui fait face à l’assemblée. Il est dit aussi que les pratiquants devraient porter leurs plus beaux vêtements pour créer une connexion propice à l’accumulation de mérite. \nCertains maîtres disent que les pratiquants devraient s’asseoir par ordre d’ancienneté\, selon le moment où ils ont reçu la première initiation du Vajrayana\, ou selon leurs niveaux d’expérience et de réalisation et de leurs qualités en tant que pratiquant.\nIl est préférable d’avoir un nombre égal de pratiquants masculins et féminins\, car cela symbolise l’équilibre des moyens habiles et de la sagesse. Nous devons considérer le lieu où nous nous réunissons\, non comme un lieu ordinaire mais comme la terre pure de Guru Rinpoché « zangdok palri »\, lui-même pratiquant avec nous la tsok\, en compagnie d’une infinité de dakas et de dakinis. \n2. Le rassemblement des substances d’offrandes \nCeci se réfère au rassemblement de « substances délectables ». Aux offrandes de nourriture et de boisson qui seront offertes par les pratiquants pendant la pratique. Il est dit que les substances comestibles représentent les moyens habiles et les liquides représentent la sagesse. Il est important que l’offrande de tsok comprenne de nombreuses substances variées et en particulier selon les tantras\, de la viande et de l’alcool. Les enseignements soulignent également que nous devons être généreux dans nos offrandes et ne pas offrir juste une petite quantité avec une attitude avare. Nous devrions essayer d’éviter de polluer les offrandes avec des concepts dualistes limités\, en pensant que quelque chose est trop bon ou trop cher pour être offert\, ou bien que quelque chose est trop sale ou impur\, ou en n’offrant que des choses que nous aimons nous-mêmes et en laissant de côté tout ce que nous n’aimons pas. \n3. Le rassemblement des divinités \nC’est ce qu’on appelle traditionnellement « le rassemblement des divinités qui sont la source des accomplissements ».\nLe mot «rassemblement» signifie que nous ne faisons pas l’offrande de tsok à une seule divinité\, mais à un mandala entier\, ou même à plusieurs mandalas de divinités\, chacun étant composé de la divinité principale avec sa suite.\nIl est important d’avoir\, une image\, une statue\, une thangka ou une photo du mandala ou bien de notre maître racine\, à chaque fois que l’on fait le rituel de tsok\, comme support de la pratique. \n4. Le rassemblement de mérite et sagesse \nC’est le rassemblement « final » qui est le résultat des trois premiers.\nLa pratique de tsok est une méthode très puissante pour accumuler le mérite et la sagesse. Les définitions du mérite varient\, mais en termes simples\, nous pouvons penser aux pratiques d’accumulation de mérite comme étant les aspects les plus conceptuels de la pratique : visualisation\, génération de la dévotion et de la compassion\, offrande\, confession\, etc.\nLes pratiques d’accumulation de sagesse sont les aspects non conceptuels\, tels que la dissolution de la visualisation.\nÀ un niveau plus profond\, nous accumulons le mérite en ne saisissant rien pendant la pratique\, et nous accumulons la sagesse en restant avec des références non-conceptuelles. \n  \nLES BIENFAITS\nDans les termas\, il est mentionné des avantages inimaginables.\nPar exemple\, on dit que Guru Rinpoché lui-même viendra bénir les pratiquants de tsok\, ou que le lieu où est pratiqué la tsok deviendra exactement comme Zangdokpalri\, la terre pure de Guru Rinpoché.\nYeshé Tsogyal a dit que pratiquer la tsok une seule fois ferme la porte à une renaissance inférieure.\nIl est dit aussi que les souffrances provoquées par les maladies\, la famine et la guerre seront pacifiées et que tous les souhaits des pratiquants seront exaucés sans le moindre obstacle. \n  \nTARIF\nGratuit pour tous \n  \nADHÉRER À L’ASSOCIATION\nLien adhésion : https://www.tcheulang.org/centre/#adherer
URL:https://www.tcheulang.org/event/evenement-special-tsok-annuelle-a-guru-rinpoche-2/
LOCATION:Temple Tcheulang\, 624 chemin Antoine Picard\, Mont-Vert-les-Hauts\, St Pierre\, 97410
CATEGORIES:A LA UNE,ÉVÈNEMENT SPÉCIAL
ATTACH;FMTTYPE=image/jpeg:https://www.tcheulang.org/wp-content/uploads/2024/04/guru-rinpoche-meditation-recitation.jpg
ORGANIZER;CN="Tcheulang":MAILTO:association.tcheulang888@gmail.com
END:VEVENT
BEGIN:VEVENT
DTSTART;TZID=Indian/Reunion:20260726T160000
DTEND;TZID=Indian/Reunion:20260726T190000
DTSTAMP:20260420T122225
CREATED:20240918T110428Z
LAST-MODIFIED:20251022T045008Z
UID:10000070-1785081600-1785092400@www.tcheulang.org
SUMMARY:Evènement spécial : Spectacle danses tibétaines
DESCRIPTION:SPECTACLE\nUne fois par an\, à l’occasion de l’anniversaire de Guru Rinpoché\, le Centre Tcheulang organise une représentation avec les habits traditionnels tibétains. Cet évènement est porteur d’un immense bienfait pour La Réunion et pour tous ceux qui y assistent. Afin d’organiser au mieux cette journée\, veuillez nous confirmer votre présence. \nDANSES SACRÉES TIBETAINES\nCes danses sacrées sont connues sous le nom du\, Langtro Détchen Rolmo qui signifie\, « les danses de la grande félicité ». Elles sont réparties en 8 chants ou chapitres qui proviennent d’un terma\, « enseignements de la vision pure » du grand Jamgon Mipham Rinpoché (1846-1912). \nAu Tibet\, elles sont régulièrement effectuées à la demande privée de famille ou de monastère pour apporter la chance dans les projets et l’accomplissement des souhaits. \nCes danses doivent être appréhendées comme une méditation puissante en mouvement. Les danseurs masculins et féminins invoquant la bénédiction de Késar\, peuvent reconnaître la nature de leur esprit\, tout en dansant\, chantant et tourbillonnant. De plus\, elles apportent a ceux qui dansent de la force\, de l’énergie et du courage. \nBIENFAITS\nVoici les paroles énoncées par l’omniscient Mipham Rinpoché\, le révélateur du Langtro Détchen Rolmo ; \n » Dans le pays où la danse sacrée du Langtro Détchen Rölmo est exécutée en quelque lieu que ce soit\, les choses indésirables et préjudiciables comme\, les maladies\, les famines\, les conflits\, etc\, ainsi que le déclin lié aux temps dégénérés seront tous pacifiés dans la dimension absolue. Selon les mots de vajra\, quiconque exécute\, voit ou entend cette danse sacrée recevra\, telle une pluie\, toutes les bonnes choses vertueuses\, auspicieuses et de nature à créer le bonheur\, tant sur le plan spirituel que materiel. » \nPROGRAMME\n16h-18h Porte ouverte\n18h-19h Spectacle des danses sacrées \nTARIF\nGratuit pour tous
URL:https://www.tcheulang.org/event/spectacle-des-danses-sacrees-avec-kesar/
LOCATION:Temple Tcheulang\, 624 chemin Antoine Picard\, Mont-Vert-les-Hauts\, St Pierre\, 97410
CATEGORIES:A LA UNE,ÉVÈNEMENT SPÉCIAL
ATTACH;FMTTYPE=image/jpeg:https://www.tcheulang.org/wp-content/uploads/2022/09/DSC_0095.jpg
ORGANIZER;CN="Tcheulang":MAILTO:association.tcheulang888@gmail.com
END:VEVENT
END:VCALENDAR