BEGIN:VCALENDAR
VERSION:2.0
PRODID:-//Tcheulang - ECPv6.15.16//NONSGML v1.0//EN
CALSCALE:GREGORIAN
METHOD:PUBLISH
X-ORIGINAL-URL:https://www.tcheulang.org
X-WR-CALDESC:Évènements pour Tcheulang
REFRESH-INTERVAL;VALUE=DURATION:PT1H
X-Robots-Tag:noindex
X-PUBLISHED-TTL:PT1H
BEGIN:VTIMEZONE
TZID:Indian/Reunion
BEGIN:STANDARD
TZOFFSETFROM:+0400
TZOFFSETTO:+0400
TZNAME:+04
DTSTART:20250101T000000
END:STANDARD
END:VTIMEZONE
BEGIN:VEVENT
DTSTART;TZID=Indian/Reunion:20260601T000000
DTEND;TZID=Indian/Reunion:20260601T060000
DTSTAMP:20260420T103945
CREATED:20240426T103530Z
LAST-MODIFIED:20260213T074050Z
UID:10001527-1780272000-1780293600@www.tcheulang.org
SUMMARY:Evènement spécial : Nyoung Né du Saga Dawa
DESCRIPTION:NYOUNG NÉ\n\nLe Nyoung Né est une pratique méditative de purification liée au Bouddha de la compassion à mille bras\, Tchenrézi (Tchak Tong Tchél Tong).\n\n\nElle combine jeûne\, silence et récitation sur la base de vœux éthiques\, les voeux de Sojong pris pour une nuit. Cette pratique de voeux a été transmise par le Bouddha lui-même pour permettre aux laïcs d’adopter\, sur une courte durée\, des engagements proches de ceux des moines et moniales\, et ainsi purifier en profondeur les actes négatifs du corps\, de la parole et de l’esprit.\n\n\nLe rituel que nous pratiquons\, La purification de toutes les fautes et négativités\, provient d’un terma (trésor spirituel) révélé par Lama Rinzin Nyima (1931–2018). Il est particulièrement pratiqué lors des jours auspicieux\, comme la pleine lune du Tchomtrul Dutchen et du Saga Dawa.\n\n\nDÉROULEMENT DE LA PRATIQUE\n\nLa pratique commence par la prise des vœux de Sojong\, observés jusqu’au lever du soleil suivant :\n\nNe pas ôter la vie\n\nNe pas voler\n\nS’abstenir d’activité sexuelle\n\nNe pas mentir\n\nNe pas consommer d’intoxicants (alcool\, tabac\, drogues)\n\nNe pas manger aux heures indues\n\nNe pas s’asseoir sur un siège élevé\n\nNe pas porter de bijoux ou de parfum\, ni chanter ou danser\n\n\nLa pratique se poursuit avec la récitation de dharanis destinées  à la purification des obscurcissements\, puis  avec l’accumulation de 10 000 récitations du mantra de la compassion :\n\n\nMANTRA\n\nOM MANI PADMÉ HOUNG\n\nCette accumulation est le coeur de la pratique\, elle relie profondément le pratiquant à l’énergie de Tchenrézi\, et génère des empreintes positives dans le courant de conscience.\n\n\nBIENFAITS\n\nLe Nyoung Né est reconnu pour ses effets profonds : purification du karma négatif\, développement de la compassion. C’est une pratique puissante et transformatrice.\n\n\nMODALITÉS\n\nPour préserver la pureté des vœux\, chacun reste dormir au temple pendant la nuit. Merci d’apporter un matelas ou futon\, un oreiller et une couverture.\nUn petit déjeuner peut être partagé à 7h du matin. Une participation de 4 euros est demandée\, sur réservation.\n\nUne participation de 3 euros est également demandée pour contribuer à l’offrande des 100 lampes de lumière allumées ce jour-là. Il ne s’agit pas d’un acte symbolique\, mais d’un support puissant d’accumulation de mérite pour tous les êtres.\n\nPour les personnes qui viennent pour la première fois\, merci d’arriver à 18h pour recevoir un enseignement du maître Do Khyentsé Rinpoché sur le sens et les engagements des vœux.\n 
URL:https://www.tcheulang.org/event/evenement-special-nyoung-ne/2026-06-01/
LOCATION:Temple Tcheulang\, 624 chemin Antoine Picard\, Mont-Vert-les-Hauts\, St Pierre\, 97410
CATEGORIES:A LA UNE,ÉVÈNEMENT SPÉCIAL
ATTACH;FMTTYPE=image/jpeg:https://www.tcheulang.org/wp-content/uploads/2024/04/tchenrezi-mille-bras-meditation-recitation.jpg
ORGANIZER;CN="Tcheulang":MAILTO:association.tcheulang888@gmail.com
END:VEVENT
BEGIN:VEVENT
DTSTART;TZID=Indian/Reunion:20260606T083000
DTEND;TZID=Indian/Reunion:20260606T170000
DTSTAMP:20260420T103945
CREATED:20251020T100927Z
LAST-MODIFIED:20260213T072422Z
UID:10001519-1780734600-1780765200@www.tcheulang.org
SUMMARY:Evènement spécial : Stage d'enseignement
DESCRIPTION:L’ESPRIT D’EVEIL\n\n\nL’esprit d’éveil\, ou bodhicitta\, est le souhait profond d’atteindre l’éveil afin de pouvoir aider tous les êtres à se libérer de la souffrance et trouver le bonheur véritable. Il réunit deux aspects inséparables : la compassion illimitée qui désire le bien de chacun et la sagesse qui réalise la véritable nature des choses. Cultiver cet esprit transforme nos pensées\, nos paroles et nos actions en chemin vers l’éveil\, car même les gestes les plus simples deviennent porteurs d’un sens immense lorsqu’ils sont accomplis avec cette motivation altruiste.\n\n\n\n\n\nSUPPORT\n\n\n\n\n\n\n \nL’enseignement de Do Khyentsé Rinpoché s’appuie sur le livre de Patrul Rinpoché Le Chemin de la Grande Perfection. Ceux qui possèdent l’ouvrage peuvent l’apporter. Ce texte est un guide des pratiques préliminaires de l’Essence du Cœur de l’Immensité (Longtchen Nyingtik)\, un cycle majeur de la Grande Perfection. Il est reconnu par de nombreux maîtres comme l’un des manuels les plus profonds et accessibles du Vajrayana\, présentant avec clarté et simplicité l’essence de la voie. Patrul Rinpoché (1808-1887)\, l’un des maîtres les plus remarquables de son époque\, transmit ces enseignements avec un style direct\, vivant et empreint d’expérience\, rappelant que la véritable pratique bouddhiste est avant tout une transformation intérieure.\n\n\n\n\n\n\n\n\n\n\nPROGRAMME\nSAMEDI\n8h30 – 10h30 : Enseignement de Rinpoché \n10h30 – 11h00 : Pause thé \n11h00 – 13h30 : Enseignement de Rinpoché \n13h30 – 15h00 : Pause repas \n15h00 – 17h00 : Enseignement de Rinpoché \nDIMANCHE\n8h30 – 10h30 : Enseignement de Rinpoché \n10h30 – 11h00 : Pause thé \n11h00 – 13h30 : Enseignement de Rinpoché \n13h30 – 15h00: Pause repas \n15h00 – 17h00 : Enseignement de Rinpoché \n  \nTARIFS\n\nNon Adhérent: 20€/ 2 jours\nRepas (Chacun emmène son repas)
URL:https://www.tcheulang.org/event/stage-denseignement-2/2026-06-06/
LOCATION:Temple Tcheulang\, 624 chemin Antoine Picard\, Mont-Vert-les-Hauts\, St Pierre\, 97410
CATEGORIES:A LA UNE,ÉVÈNEMENT SPÉCIAL
ATTACH;FMTTYPE=image/jpeg:https://www.tcheulang.org/wp-content/uploads/2024/04/stage-denseignement.jpg
END:VEVENT
BEGIN:VEVENT
DTSTART;TZID=Indian/Reunion:20260607T083000
DTEND;TZID=Indian/Reunion:20260607T170000
DTSTAMP:20260420T103945
CREATED:20251020T100927Z
LAST-MODIFIED:20260213T072422Z
UID:10001520-1780821000-1780851600@www.tcheulang.org
SUMMARY:Evènement spécial : Stage d'enseignement
DESCRIPTION:L’ESPRIT D’EVEIL\n\n\nL’esprit d’éveil\, ou bodhicitta\, est le souhait profond d’atteindre l’éveil afin de pouvoir aider tous les êtres à se libérer de la souffrance et trouver le bonheur véritable. Il réunit deux aspects inséparables : la compassion illimitée qui désire le bien de chacun et la sagesse qui réalise la véritable nature des choses. Cultiver cet esprit transforme nos pensées\, nos paroles et nos actions en chemin vers l’éveil\, car même les gestes les plus simples deviennent porteurs d’un sens immense lorsqu’ils sont accomplis avec cette motivation altruiste.\n\n\n\n\n\nSUPPORT\n\n\n\n\n\n\n \nL’enseignement de Do Khyentsé Rinpoché s’appuie sur le livre de Patrul Rinpoché Le Chemin de la Grande Perfection. Ceux qui possèdent l’ouvrage peuvent l’apporter. Ce texte est un guide des pratiques préliminaires de l’Essence du Cœur de l’Immensité (Longtchen Nyingtik)\, un cycle majeur de la Grande Perfection. Il est reconnu par de nombreux maîtres comme l’un des manuels les plus profonds et accessibles du Vajrayana\, présentant avec clarté et simplicité l’essence de la voie. Patrul Rinpoché (1808-1887)\, l’un des maîtres les plus remarquables de son époque\, transmit ces enseignements avec un style direct\, vivant et empreint d’expérience\, rappelant que la véritable pratique bouddhiste est avant tout une transformation intérieure.\n\n\n\n\n\n\n\n\n\n\nPROGRAMME\nSAMEDI\n8h30 – 10h30 : Enseignement de Rinpoché \n10h30 – 11h00 : Pause thé \n11h00 – 13h30 : Enseignement de Rinpoché \n13h30 – 15h00 : Pause repas \n15h00 – 17h00 : Enseignement de Rinpoché \nDIMANCHE\n8h30 – 10h30 : Enseignement de Rinpoché \n10h30 – 11h00 : Pause thé \n11h00 – 13h30 : Enseignement de Rinpoché \n13h30 – 15h00: Pause repas \n15h00 – 17h00 : Enseignement de Rinpoché \n  \nTARIFS\n\nNon Adhérent: 20€/ 2 jours\nRepas (Chacun emmène son repas)
URL:https://www.tcheulang.org/event/stage-denseignement-2/2026-06-07/
LOCATION:Temple Tcheulang\, 624 chemin Antoine Picard\, Mont-Vert-les-Hauts\, St Pierre\, 97410
CATEGORIES:A LA UNE,ÉVÈNEMENT SPÉCIAL
ATTACH;FMTTYPE=image/jpeg:https://www.tcheulang.org/wp-content/uploads/2024/04/stage-denseignement.jpg
END:VEVENT
BEGIN:VEVENT
DTSTART;TZID=Indian/Reunion:20260629T090000
DTEND;TZID=Indian/Reunion:20260629T110000
DTSTAMP:20260420T103945
CREATED:20240428T102849Z
LAST-MODIFIED:20250617T172603Z
UID:10001071-1782723600-1782730800@www.tcheulang.org
SUMMARY:Evènement spécial : Sangue Universelle
DESCRIPTION:La méditation-récitation s’appuie toujours sur une divinité qui représente les qualités de l’éveil\, envers qui le pratiquant se relie comme support et moyen habile pour développer ses propres qualités. De plus\, par leurs méthodes puissantes d’accumulation de mérite et de purification\, elles facilitent l’entrée dans une profonde concentration méditative et nous aide à demeurer dans l’instant présent au niveau du corps\, de la parole et de l’esprit. \nSANGUE UNIVERSELLE\nLa Sangue universelle a lieu le 15ème jour du 5ème mois tibétain. \nLe rituel de Sangue appelé le « Reuwo Sangtchot » littéralement « La Montagne d’Offrande de Fumée » provient d’un « terma » trésor spirituel\, qui a été caché par Guru Rinpoché et révélé au XVIIe siècle par le grand Yogi et Tertön\, Lhatsun Namkha Jikmé (1597-1650). \nCe rituel est accompagné par des offrandes « Les trois blanches » (farine\, beurre\, yaourt) et « Les trois sucrés » (sucre\, miel\, mélasse) avec une base de farine de céréales ainsi que des branches fraîches de cyprès. Ces offrandes sont offertes pendant le rituel à l’extérieur dans un foyer réservé à cet effet. \nMANTRA\nOM AH HOUNG \nPendant la phase d’offrande\,  les participants accumulent le mantra OM AH HOUNG.\nLa syllabe « Om » purifie l’offrande des impuretés\, « Ah » transforme l’offrande en nectar et « Houng » la multiplie à l’infinie. \nBIENFAITS\nCe terma a le pouvoir de prolonger la vie et supprimer les obstacles\, en particulier ceux associés aux créanciers karmiques.\nC’est une pratique de purification dans laquelle tous les obscurcissements sont purifiés et brulés\, c’est la meilleure pratique pour éliminer les obstacles et exaucer les souhaits à la fois temporaires et ultimes.
URL:https://www.tcheulang.org/event/evenement-special-sangue-universelle/2026-06-29/
LOCATION:Temple Tcheulang\, 624 chemin Antoine Picard\, Mont-Vert-les-Hauts\, St Pierre\, 97410
CATEGORIES:A LA UNE,ÉVÈNEMENT SPÉCIAL
ATTACH;FMTTYPE=image/png:https://www.tcheulang.org/wp-content/uploads/2024/04/sangue-meditation-recitation.png
ORGANIZER;CN="Tcheulang":MAILTO:association.tcheulang888@gmail.com
END:VEVENT
END:VCALENDAR