BEGIN:VCALENDAR
VERSION:2.0
PRODID:-//Tcheulang - ECPv6.15.16//NONSGML v1.0//EN
CALSCALE:GREGORIAN
METHOD:PUBLISH
X-WR-CALNAME:Tcheulang
X-ORIGINAL-URL:https://www.tcheulang.org
X-WR-CALDESC:Évènements pour Tcheulang
REFRESH-INTERVAL;VALUE=DURATION:PT1H
X-Robots-Tag:noindex
X-PUBLISHED-TTL:PT1H
BEGIN:VTIMEZONE
TZID:Indian/Reunion
BEGIN:STANDARD
TZOFFSETFROM:+0400
TZOFFSETTO:+0400
TZNAME:+04
DTSTART:20250101T000000
END:STANDARD
END:VTIMEZONE
BEGIN:VEVENT
DTSTART;TZID=Indian/Reunion:20260501T083000
DTEND;TZID=Indian/Reunion:20260503T200000
DTSTAMP:20260420T084311
CREATED:20251020T122427Z
LAST-MODIFIED:20251116T065953Z
UID:10001295-1777624200-1777838400@www.tcheulang.org
SUMMARY:Evènement spécial : Stage de pratique
DESCRIPTION:ACCUMULATIONS\n\nPendant ce stage de pratique\, nous effectuerons les accumulations liées aux initiations des Trois Racines reçues en août auprès de Sa Sainteté Rabjam Rinpoche.\n\n\n\nPremier jour : accumulation du mantra de Guru Rinpoché\, en lien avec l’initiation du Lama.\n\n\n\nDeuxième jour : accumulation du mantra de Hayagriva\, en lien avec l’initiation du Yidam.\n\n\n\nTroisième jour : accumulation du mantra de Dorjé Pamo\, en lien avec l’initiation de la Dakini.\n\n\n\nOFFRANDES\n\nPour soutenir les accumulations et cultiver les mérites indispensables à la progression spirituelle\, nous offrirons des lampes\, des fleurs et de l’encens.\n\nTous ceux qui souhaitent se joindre à ces offrandes peuvent participer en envoyant une offrande dédiée à cet effet.\n  \nPROGRAMME\nVENDREDI 01 MAI\n\n06h30 – 08h30 session 1 :\n10h00 – 12h00 session 2 :\n14h30 – 16h30 session 3 :\n18h00 – 20h00 session 4 : Zangtcheut Monlam\n\nSAMEDI 02 MAI\n\n06h30 – 08h30 session 1 :\n10h00 – 12h00 session 2 :\n14h30 – 16h30 session 3 :\n18h00 – 20h00 session 4 : Zangtcheut Monlam\n\nDIMANCHE 03 MAI\n\n06h30 – 08h30 session 1 :\n10h00 – 12h00 session 2 :\n14h30 – 16h30 session 3 :\n18h00 – 20h00 session 4 : Tsok des 3 racines\n\nRESTAURATION\n– Petit déjeuner 3 €\n– Déjeuner : Chacun emmène son repas \n– Goûter 1€
URL:https://www.tcheulang.org/event/stage-de-pratique-les-3-racines/
LOCATION:Temple Tcheulang\, 624 chemin Antoine Picard\, Mont-Vert-les-Hauts\, St Pierre\, 97410
CATEGORIES:A LA UNE,ÉVÈNEMENT SPÉCIAL,Stage de pratique
ATTACH;FMTTYPE=image/jpeg:https://www.tcheulang.org/wp-content/uploads/2024/04/tsikdeun-lhadroup-stage-de-pratique.jpg
ORGANIZER;CN="Tcheulang":MAILTO:association.tcheulang888@gmail.com
END:VEVENT
BEGIN:VEVENT
DTSTART;TZID=Indian/Reunion:20260531T200000
DTEND;TZID=Indian/Reunion:20260531T233000
DTSTAMP:20260420T084311
CREATED:20240426T103530Z
LAST-MODIFIED:20260213T074050Z
UID:10001057-1780257600-1780270200@www.tcheulang.org
SUMMARY:Evènement spécial : Nyoung Né du Saga Dawa
DESCRIPTION:NYOUNG NÉ\n\nLe Nyoung Né est une pratique méditative de purification liée au Bouddha de la compassion à mille bras\, Tchenrézi (Tchak Tong Tchél Tong).\n\n\nElle combine jeûne\, silence et récitation sur la base de vœux éthiques\, les voeux de Sojong pris pour une nuit. Cette pratique de voeux a été transmise par le Bouddha lui-même pour permettre aux laïcs d’adopter\, sur une courte durée\, des engagements proches de ceux des moines et moniales\, et ainsi purifier en profondeur les actes négatifs du corps\, de la parole et de l’esprit.\n\n\nLe rituel que nous pratiquons\, La purification de toutes les fautes et négativités\, provient d’un terma (trésor spirituel) révélé par Lama Rinzin Nyima (1931–2018). Il est particulièrement pratiqué lors des jours auspicieux\, comme la pleine lune du Tchomtrul Dutchen et du Saga Dawa.\n\n\nDÉROULEMENT DE LA PRATIQUE\n\nLa pratique commence par la prise des vœux de Sojong\, observés jusqu’au lever du soleil suivant :\n\nNe pas ôter la vie\n\nNe pas voler\n\nS’abstenir d’activité sexuelle\n\nNe pas mentir\n\nNe pas consommer d’intoxicants (alcool\, tabac\, drogues)\n\nNe pas manger aux heures indues\n\nNe pas s’asseoir sur un siège élevé\n\nNe pas porter de bijoux ou de parfum\, ni chanter ou danser\n\n\nLa pratique se poursuit avec la récitation de dharanis destinées  à la purification des obscurcissements\, puis  avec l’accumulation de 10 000 récitations du mantra de la compassion :\n\n\nMANTRA\n\nOM MANI PADMÉ HOUNG\n\nCette accumulation est le coeur de la pratique\, elle relie profondément le pratiquant à l’énergie de Tchenrézi\, et génère des empreintes positives dans le courant de conscience.\n\n\nBIENFAITS\n\nLe Nyoung Né est reconnu pour ses effets profonds : purification du karma négatif\, développement de la compassion. C’est une pratique puissante et transformatrice.\n\n\nMODALITÉS\n\nPour préserver la pureté des vœux\, chacun reste dormir au temple pendant la nuit. Merci d’apporter un matelas ou futon\, un oreiller et une couverture.\nUn petit déjeuner peut être partagé à 7h du matin. Une participation de 4 euros est demandée\, sur réservation.\n\nUne participation de 3 euros est également demandée pour contribuer à l’offrande des 100 lampes de lumière allumées ce jour-là. Il ne s’agit pas d’un acte symbolique\, mais d’un support puissant d’accumulation de mérite pour tous les êtres.\n\nPour les personnes qui viennent pour la première fois\, merci d’arriver à 18h pour recevoir un enseignement du maître Do Khyentsé Rinpoché sur le sens et les engagements des vœux.\n 
URL:https://www.tcheulang.org/event/evenement-special-nyoung-ne/2026-05-31/
LOCATION:Temple Tcheulang\, 624 chemin Antoine Picard\, Mont-Vert-les-Hauts\, St Pierre\, 97410
CATEGORIES:A LA UNE,ÉVÈNEMENT SPÉCIAL
ATTACH;FMTTYPE=image/jpeg:https://www.tcheulang.org/wp-content/uploads/2024/04/tchenrezi-mille-bras-meditation-recitation.jpg
ORGANIZER;CN="Tcheulang":MAILTO:association.tcheulang888@gmail.com
END:VEVENT
END:VCALENDAR