BEGIN:VCALENDAR
VERSION:2.0
PRODID:-//Tcheulang - ECPv6.15.16//NONSGML v1.0//EN
CALSCALE:GREGORIAN
METHOD:PUBLISH
X-WR-CALNAME:Tcheulang
X-ORIGINAL-URL:https://www.tcheulang.org
X-WR-CALDESC:Évènements pour Tcheulang
REFRESH-INTERVAL;VALUE=DURATION:PT1H
X-Robots-Tag:noindex
X-PUBLISHED-TTL:PT1H
BEGIN:VTIMEZONE
TZID:Indian/Reunion
BEGIN:STANDARD
TZOFFSETFROM:+0400
TZOFFSETTO:+0400
TZNAME:+04
DTSTART:20250101T000000
END:STANDARD
END:VTIMEZONE
BEGIN:VEVENT
DTSTART;TZID=Indian/Reunion:20260216T190000
DTEND;TZID=Indian/Reunion:20260216T210000
DTSTAMP:20260420T103528
CREATED:20260210T062023Z
LAST-MODIFIED:20260210T064535Z
UID:10001475-1771268400-1771275600@www.tcheulang.org
SUMMARY:Evènement spécial : Pratique de protection annuelle
DESCRIPTION:PROTECTION ANNUELLE\n\nLe lundi 16 février correspond au 29ᵉ jour lunaire\, la dernière lune noire du 12ème mois de l’année tibétaine. C’est le moment où le cycle annuel arrive à son terme. \nComme à chaque lune noire\, nous pratiquons la méditation-récitation de Sangdöngma\, une pratique profonde destinée à repousser les obstacles extérieurs\, intérieurs et secrets. Lorsqu’elle est accomplie dans l’obscurité de la lune\, cette pratique est considérée comme particulièrement propice et agit comme un grand nettoyage\, venant dissoudre ce qui entrave notre chemin et apaiser les influences négatives. \nPlacée à un moment charnière du cycle\, la lune noire du 16 février constitue un véritable temps de clôture et de passage. Située juste avant la nouvelle lune\, elle précède l’entrée dans la nouvelle année tibétaine et annonce le Losar. \nLa pratique prend alors une dimension toute particulière : elle agit comme une grande purification et surtout comme une protection\, permettant de repousser toutes les circonstances adverses pour la nouvelle année à venir. \n\n\nSANGDONGMA\nSangdongma est une divinité féminine protectrice du Dharma. Elle est vue comme une forme secrète de Guru Rinpoché manifestée pour détourner les obstacles spirituels et les négativités. \nLe rituel de Sangdongma pratiqué provient d’un « terma » trésor spirituel\, révélé par Dudjom Rinpoché (1904-1987). Il a lieu tous les mois\, le 29ème jour lunaire du calendrier tibétain\, le jour de la lune noire. \nMANTRA\nAHKA SAMA RATSA SHANDA RASA MARAYA PHET \nBIENFAITS\nLa pratique de Sangdongma est d’une importance cruciale pour notre bien-être en ces temps difficiles. Elle est excellemment puissante pour éliminer les obstacles les plus répandus et les plus malins\, y compris les troubles spirituels et la magie noire. \nSa pratique est également excellente pour détruire les obstacles à la pratique du Dharma afin qu’ils ne perturbent jamais la santé\, le bien-être et le progrès spirituel du pratiquant tantrique.
URL:https://www.tcheulang.org/event/evenement-special-pratique-de-protection-annuelle/2026-02-16/
LOCATION:Temple Tcheulang\, 624 chemin Antoine Picard\, Mont-Vert-les-Hauts\, St Pierre\, 97410
CATEGORIES:ÉVÈNEMENT SPÉCIAL,SPIRITUELLES - Approfondissement
ORGANIZER;CN="Tcheulang":MAILTO:association.tcheulang888@gmail.com
END:VEVENT
BEGIN:VEVENT
DTSTART;TZID=Indian/Reunion:20260222T090000
DTEND;TZID=Indian/Reunion:20260222T183000
DTSTAMP:20260420T103528
CREATED:20240917T123720Z
LAST-MODIFIED:20260210T065259Z
UID:10000710-1771750800-1771785000@www.tcheulang.org
SUMMARY:Évènement spécial : Célébration du Losar
DESCRIPTION:Le matin\, nous ferons une pratque de souhaits\, puis seront  faites les offrandes traditionnelles de temjik à Do Khyentsé Rinpoché\, en témoignage de notre reconnaissance envers sa guidance. Une offrande de dance tibétaine aura ensuite lieu. Le reste de la journée sera un moment de détente et de joie\, où l’on profite d’être ensemble entre pratiquants de la même sangha pour célébrer le Nouvel An tibétain dans un esprit de convivialité. \nPROGRAMME\nMATIN – Ouvert à tous \n\n09h00 – 11h00 : Pratique de souhaits\n11h00 – 11h30 : Offrandes de temjik\n11h30 – 12h00 : Danses tibétaines\n\nAPRES-MIDI – Réservé aux adhérents et à leurs familles \n\n12h30 – 11h00 : Repas\n15h00 – 18h30 : Jeux et moment de convivialité\n\n 
URL:https://www.tcheulang.org/event/evenement-special-celebration-du-losar/2026-02-22/
LOCATION:Temple Tcheulang\, 624 chemin Antoine Picard\, Mont-Vert-les-Hauts\, St Pierre\, 97410
CATEGORIES:A LA UNE,ÉVÈNEMENT SPÉCIAL
ATTACH;FMTTYPE=image/jpeg:https://www.tcheulang.org/wp-content/uploads/2024/10/20230226_130344-Copie.jpg
ORGANIZER;CN="Tcheulang":MAILTO:association.tcheulang888@gmail.com
END:VEVENT
END:VCALENDAR